BEGIN:VCALENDAR
VERSION:2.0
PRODID:-//Andrea Edlbauer - ECPv6.15.20//NONSGML v1.0//EN
CALSCALE:GREGORIAN
METHOD:PUBLISH
X-ORIGINAL-URL:https://andreaedlbauer.at
X-WR-CALDESC:Veranstaltungen für Andrea Edlbauer
REFRESH-INTERVAL;VALUE=DURATION:PT1H
X-Robots-Tag:noindex
X-PUBLISHED-TTL:PT1H
BEGIN:VTIMEZONE
TZID:UTC
BEGIN:STANDARD
TZOFFSETFROM:+0000
TZOFFSETTO:+0000
TZNAME:UTC
DTSTART:20250101T000000
END:STANDARD
END:VTIMEZONE
BEGIN:VEVENT
DTSTART;TZID=UTC:20260423T190000
DTEND;TZID=UTC:20260423T203000
DTSTAMP:20260420T080654
CREATED:20260125T202801Z
LAST-MODIFIED:20260125T202801Z
UID:5040-1776970800-1776976200@andreaedlbauer.at
SUMMARY:ANNEA: Rebenerzählungen
DESCRIPTION:
URL:https://andreaedlbauer.at/konzert/annea-rebenerzaehlungen/
LOCATION:Hotel Vötterl\, Salzburger Straße 54\, Großgmain\, Salzburg\, 5084
END:VEVENT
BEGIN:VEVENT
DTSTART;VALUE=DATE:20260620
DTEND;VALUE=DATE:20260622
DTSTAMP:20260420T080654
CREATED:20250304T084644Z
LAST-MODIFIED:20250304T084644Z
UID:5062-1781913600-1782086399@andreaedlbauer.at
SUMMARY:ANNEA @mini.music
DESCRIPTION:Brucknerhaus Linz
URL:https://andreaedlbauer.at/konzert/annea-mini-music/
LOCATION:Brucknerhaus Linz
END:VEVENT
BEGIN:VEVENT
DTSTART;VALUE=DATE:20260621
DTEND;VALUE=DATE:20260622
DTSTAMP:20260420T080654
CREATED:20250304T084812Z
LAST-MODIFIED:20250304T084812Z
UID:5066-1782000000-1782086399@andreaedlbauer.at
SUMMARY:ANNEA @mini.music
DESCRIPTION:Brucknerhaus Linz
URL:https://andreaedlbauer.at/konzert/annea-mini-music-2/
LOCATION:Brucknerhaus Linz
END:VEVENT
END:VCALENDAR