BEGIN:VCALENDAR
VERSION:2.0
PRODID:-//Andrea Edlbauer - ECPv6.15.20//NONSGML v1.0//EN
CALSCALE:GREGORIAN
METHOD:PUBLISH
X-WR-CALNAME:Andrea Edlbauer
X-ORIGINAL-URL:https://andreaedlbauer.at
X-WR-CALDESC:Veranstaltungen für Andrea Edlbauer
REFRESH-INTERVAL;VALUE=DURATION:PT1H
X-Robots-Tag:noindex
X-PUBLISHED-TTL:PT1H
BEGIN:VTIMEZONE
TZID:UTC
BEGIN:STANDARD
TZOFFSETFROM:+0000
TZOFFSETTO:+0000
TZNAME:UTC
DTSTART:20240101T000000
END:STANDARD
END:VTIMEZONE
BEGIN:VEVENT
DTSTART;TZID=UTC:20260411T150000
DTEND;TZID=UTC:20260411T160000
DTSTAMP:20260420T092428
CREATED:20260125T203150Z
LAST-MODIFIED:20260125T203150Z
UID:5148-1775919600-1775923200@andreaedlbauer.at
SUMMARY:ANNEA: Agathes Musikkoffer
DESCRIPTION:
URL:https://andreaedlbauer.at/konzert/annea-agathes-musikkoffer/
LOCATION:Bildungszentrum Purkersdorf\, Schwarzhubergasse 5\, Purkersdorf\, Niederösterreich\, 3002
END:VEVENT
BEGIN:VEVENT
DTSTART;TZID=UTC:20260326T190000
DTEND;TZID=UTC:20260326T210000
DTSTAMP:20260420T092428
CREATED:20250905T152008Z
LAST-MODIFIED:20250905T152008Z
UID:5110-1774551600-1774558800@andreaedlbauer.at
SUMMARY:Ambitus: Duo Edlbauer Kuzo & Johanna Lacroix\, Silvia Kanicki
DESCRIPTION:Kompositionen von Johanna Doderer\, Gerald Resch\, Tamara Friebel\, Tina Geroldinger\, Viola Falb u.a.
URL:https://andreaedlbauer.at/konzert/ambitus-duo-edlbauer-kuzo-johanna-lacroix-silvia-kanicki/
LOCATION:Off Theater Wien\, Kirchengasse 41\, Wien\, 1070
END:VEVENT
BEGIN:VEVENT
DTSTART;TZID=UTC:20260306T180000
DTEND;TZID=UTC:20260306T200000
DTSTAMP:20260420T092428
CREATED:20260125T202223Z
LAST-MODIFIED:20260125T202223Z
UID:5138-1772820000-1772827200@andreaedlbauer.at
SUMMARY:Duo Edlbauer Kuzo: Album-Release Österreichisches Kulturforum Budapest
DESCRIPTION:
URL:https://andreaedlbauer.at/konzert/duo-edlbauer-kuzo-album-release-oesterreichisches-kulturforum-budapest/
LOCATION:Osztrák Kulturális Fórum Budapest\, Benczúr u. 16\, Budapest\, Ungarn\, 1068
END:VEVENT
BEGIN:VEVENT
DTSTART;VALUE=DATE:20260302
DTEND;VALUE=DATE:20260305
DTSTAMP:20260420T092428
CREATED:20260125T203829Z
LAST-MODIFIED:20260125T203829Z
UID:5152-1772409600-1772668799@andreaedlbauer.at
SUMMARY:Jury prima la musica Landeswettbewerb Tirol
DESCRIPTION:
URL:https://andreaedlbauer.at/konzert/jury-prima-la-musica-landeswettbewerb-tirol/
LOCATION:Festspielhaus Erl\, Mühlgraben 56a\, Erl\, Tirol\, 6343
END:VEVENT
BEGIN:VEVENT
DTSTART;TZID=UTC:20260207T190000
DTEND;TZID=UTC:20260207T210000
DTSTAMP:20260420T092428
CREATED:20260125T201002Z
LAST-MODIFIED:20260125T201643Z
UID:5125-1770490800-1770498000@andreaedlbauer.at
SUMMARY:Duo Edlbauer Kuzo: Album-Release Konzert C. Bechstein Centrum Linz
DESCRIPTION:
URL:https://andreaedlbauer.at/konzert/duo-edlbauer-kuzo-album-release-konzert-c-bechstein-centrum-linz/
LOCATION:Klaviersalon Mertha\, Bethlehemstrasse 24\, Linz\, 4020
END:VEVENT
BEGIN:VEVENT
DTSTART;TZID=UTC:20260129T193000
DTEND;TZID=UTC:20260129T213000
DTSTAMP:20260420T092428
CREATED:20260125T200755Z
LAST-MODIFIED:20260125T201810Z
UID:5122-1769715000-1769722200@andreaedlbauer.at
SUMMARY:AMBITUS: Roundabout / Duo Edlbauer Kuzo + Panos Nikitaris + Igor Gross
DESCRIPTION:mit Kompositionen von Alexander Eberhardt\, Fitz Keil\, Helmut Lachenmann\, Wolfgang Liebhart\, Petra Stump-Linshalm und Alexander Wagendristel
URL:https://andreaedlbauer.at/konzert/ambitus-roundabout-duo-edlbauer-kuzo-panos-nikitaris-igor-gross/
LOCATION:Off Theater Wien\, Kirchengasse 41\, Wien\, 1070
END:VEVENT
BEGIN:VEVENT
DTSTART;TZID=UTC:20260115T190000
DTEND;TZID=UTC:20260115T210000
DTSTAMP:20260420T092428
CREATED:20260125T200336Z
LAST-MODIFIED:20260125T200336Z
UID:5119-1768503600-1768510800@andreaedlbauer.at
SUMMARY:Duo Edlbauer Kuzo: Album-Release Konzert Bank Austria Salon im Alten Rathaus
DESCRIPTION:Wipplingerstr.8\, 1010 Wien
URL:https://andreaedlbauer.at/konzert/duo-edlbauer-kuzo-album-release-konzert-bank-austria-salon-im-alten-rathaus/
LOCATION:Tirol
END:VEVENT
BEGIN:VEVENT
DTSTART;VALUE=DATE:20251217
DTEND;VALUE=DATE:20251222
DTSTAMP:20260420T092428
CREATED:20250905T150503Z
LAST-MODIFIED:20250905T151407Z
UID:5101-1765929600-1766361599@andreaedlbauer.at
SUMMARY:Duo Edlbauer Kuzo
DESCRIPTION:Tarapacá Músic Fest Iquique / Chile
URL:https://andreaedlbauer.at/konzert/duo-edlbauer-kuzo/
LOCATION:Tarapacá Músic Fest Iquique / Chile
END:VEVENT
END:VCALENDAR